BEGIN:VCALENDAR
VERSION:2.0
PRODID:-//Credo Christian Elementary School - ECPv6.15.20//NONSGML v1.0//EN
CALSCALE:GREGORIAN
METHOD:PUBLISH
X-ORIGINAL-URL:https://credoces.org
X-WR-CALDESC:Events for Credo Christian Elementary School
REFRESH-INTERVAL;VALUE=DURATION:PT1H
X-Robots-Tag:noindex
X-PUBLISHED-TTL:PT1H
BEGIN:VTIMEZONE
TZID:America/Vancouver
BEGIN:DAYLIGHT
TZOFFSETFROM:-0800
TZOFFSETTO:-0700
TZNAME:PDT
DTSTART:20250309T100000
END:DAYLIGHT
BEGIN:STANDARD
TZOFFSETFROM:-0700
TZOFFSETTO:-0800
TZNAME:PST
DTSTART:20251102T090000
END:STANDARD
BEGIN:DAYLIGHT
TZOFFSETFROM:-0800
TZOFFSETTO:-0700
TZNAME:PDT
DTSTART:20260308T100000
END:DAYLIGHT
BEGIN:STANDARD
TZOFFSETFROM:-0700
TZOFFSETTO:-0800
TZNAME:PST
DTSTART:20261101T090000
END:STANDARD
BEGIN:DAYLIGHT
TZOFFSETFROM:-0800
TZOFFSETTO:-0700
TZNAME:PDT
DTSTART:20270314T100000
END:DAYLIGHT
BEGIN:STANDARD
TZOFFSETFROM:-0700
TZOFFSETTO:-0800
TZNAME:PST
DTSTART:20271107T090000
END:STANDARD
END:VTIMEZONE
BEGIN:VEVENT
DTSTART;TZID=America/Vancouver:20260414T153000
DTEND;TZID=America/Vancouver:20260414T170000
DTSTAMP:20260424T040005
CREATED:20260330T164437Z
LAST-MODIFIED:20260330T164437Z
UID:10001387-1776180600-1776186000@credoces.org
SUMMARY:G8 T&F Practice - McLeod
DESCRIPTION:
URL:https://credoces.org/calendar/g8-tf-practice-mcleod-5/
LOCATION:McLeod Athletic Park\, 5687 216 St\, Langley\, BC\, V2Y 2N5\, Canada
CATEGORIES:Athletics,GR 8 Track & Field
END:VEVENT
BEGIN:VEVENT
DTSTART;TZID=America/Vancouver:20260415T123000
DTEND;TZID=America/Vancouver:20260415T180000
DTSTAMP:20260424T040005
CREATED:20260330T164513Z
LAST-MODIFIED:20260330T164513Z
UID:10001388-1776256200-1776276000@credoces.org
SUMMARY:G8 T&F Meet - Rotary
DESCRIPTION:
URL:https://credoces.org/calendar/g8-tf-meet-rotary-2/
LOCATION:Rotary Stadium\, 32315 South Fraser Way\, Abbotsford\, BC\, V2T 1W7
CATEGORIES:Athletics,GR 8 Track & Field
END:VEVENT
BEGIN:VEVENT
DTSTART;TZID=America/Vancouver:20260415T140000
DTEND;TZID=America/Vancouver:20260415T150000
DTSTAMP:20260424T040005
CREATED:20251125T222406Z
LAST-MODIFIED:20260209T204924Z
UID:10001304-1776261600-1776265200@credoces.org
SUMMARY:Spring Assembly | LCRC
DESCRIPTION:
URL:https://credoces.org/calendar/spring-break-assembly-lcrc/
LOCATION:Langley Canadian Reformed Church\, 21804 52 Ave\, Langley\, BC\, V2Y 1L3\, Canada
CATEGORIES:CCES
END:VEVENT
BEGIN:VEVENT
DTSTART;TZID=America/Vancouver:20260415T174500
DTEND;TZID=America/Vancouver:20260415T190000
DTSTAMP:20260424T040005
CREATED:20251117T182943Z
LAST-MODIFIED:20251117T182943Z
UID:10001233-1776275100-1776279600@credoces.org
SUMMARY:Gym - Fitness Class
DESCRIPTION:
URL:https://credoces.org/calendar/gym-fitness-class-8/2026-04-15/
CATEGORIES:CCES Gym
END:VEVENT
BEGIN:VEVENT
DTSTART;VALUE=DATE:20260416
DTEND;VALUE=DATE:20260417
DTSTAMP:20260424T040005
CREATED:20260401T210330Z
LAST-MODIFIED:20260401T210330Z
UID:10001395-1776297600-1776383999@credoces.org
SUMMARY:Grade 3 - Science World
DESCRIPTION:
URL:https://credoces.org/calendar/grade-3-science-world-2/
LOCATION:Science World\, 1455 Quebec St.\, Vancouver\, BC\, V6A 37\, Canada
CATEGORIES:CCES,Field Trips
END:VEVENT
BEGIN:VEVENT
DTSTART;TZID=America/Vancouver:20260416T180000
DTEND;TZID=America/Vancouver:20260416T213000
DTSTAMP:20260424T040005
CREATED:20260309T163927Z
LAST-MODIFIED:20260309T163927Z
UID:10001375-1776362400-1776375000@credoces.org
SUMMARY:Gym - Club VB
DESCRIPTION:
URL:https://credoces.org/calendar/gym-club-vb/
CATEGORIES:CCES Gym
END:VEVENT
BEGIN:VEVENT
DTSTART;TZID=America/Vancouver:20260417T083000
DTEND;TZID=America/Vancouver:20260417T170000
DTSTAMP:20260424T040005
CREATED:20260330T164628Z
LAST-MODIFIED:20260330T164628Z
UID:10001390-1776414600-1776445200@credoces.org
SUMMARY:G8 T&F Christian Schools Meet
DESCRIPTION:
URL:https://credoces.org/calendar/g8-tf-christian-schools-meet/
CATEGORIES:Athletics,GR 8 Track & Field
END:VEVENT
BEGIN:VEVENT
DTSTART;TZID=America/Vancouver:20260417T150000
DTEND;TZID=America/Vancouver:20260417T173000
DTSTAMP:20260424T040005
CREATED:20260409T162553Z
LAST-MODIFIED:20260409T162553Z
UID:10001409-1776438000-1776447000@credoces.org
SUMMARY:Gym - Birthday Party
DESCRIPTION:
URL:https://credoces.org/calendar/gym-birthday-party-39/
CATEGORIES:CCES Gym
END:VEVENT
END:VCALENDAR